BEGIN:VCALENDAR
VERSION:2.0
PRODID:-//Spring Mix II | Fishing Charter Ocean City MD - ECPv6.15.0//NONSGML v1.0//EN
CALSCALE:GREGORIAN
METHOD:PUBLISH
X-ORIGINAL-URL:https://springmixfishing.com
X-WR-CALDESC:Events for Spring Mix II | Fishing Charter Ocean City MD
REFRESH-INTERVAL;VALUE=DURATION:PT1H
X-Robots-Tag:noindex
X-PUBLISHED-TTL:PT1H
BEGIN:VTIMEZONE
TZID:America/New_York
BEGIN:DAYLIGHT
TZOFFSETFROM:-0500
TZOFFSETTO:-0400
TZNAME:EDT
DTSTART:20210314T070000
END:DAYLIGHT
BEGIN:STANDARD
TZOFFSETFROM:-0400
TZOFFSETTO:-0500
TZNAME:EST
DTSTART:20211107T060000
END:STANDARD
END:VTIMEZONE
BEGIN:VEVENT
DTSTART;VALUE=DATE:20210212
DTEND;VALUE=DATE:20210213
DTSTAMP:20260423T111015
CREATED:20210211T230132Z
LAST-MODIFIED:20210211T230132Z
UID:2770-1613088000-1613174399@springmixfishing.com
SUMMARY:Booked
DESCRIPTION:
URL:https://springmixfishing.com/availability/booked-335/
CATEGORIES:Booked
END:VEVENT
BEGIN:VEVENT
DTSTART;VALUE=DATE:20210213
DTEND;VALUE=DATE:20210214
DTSTAMP:20260423T111015
CREATED:20210212T142024Z
LAST-MODIFIED:20210212T142024Z
UID:2812-1613174400-1613260799@springmixfishing.com
SUMMARY:Booked
DESCRIPTION:
URL:https://springmixfishing.com/availability/booked-356/
CATEGORIES:Booked
END:VEVENT
BEGIN:VEVENT
DTSTART;VALUE=DATE:20210218
DTEND;VALUE=DATE:20210219
DTSTAMP:20260423T111015
CREATED:20210211T230224Z
LAST-MODIFIED:20210211T230224Z
UID:2772-1613606400-1613692799@springmixfishing.com
SUMMARY:Booked
DESCRIPTION:
URL:https://springmixfishing.com/availability/booked-336/
CATEGORIES:Booked
END:VEVENT
BEGIN:VEVENT
DTSTART;VALUE=DATE:20210224
DTEND;VALUE=DATE:20210225
DTSTAMP:20260423T111015
CREATED:20210211T230300Z
LAST-MODIFIED:20210211T230300Z
UID:2774-1614124800-1614211199@springmixfishing.com
SUMMARY:Booked
DESCRIPTION:
URL:https://springmixfishing.com/availability/booked-337/
CATEGORIES:Booked
END:VEVENT
END:VCALENDAR