BEGIN:VCALENDAR
VERSION:2.0
PRODID:-//Spring Mix II | Fishing Charter Ocean City MD - ECPv6.15.0//NONSGML v1.0//EN
CALSCALE:GREGORIAN
METHOD:PUBLISH
X-ORIGINAL-URL:https://springmixfishing.com
X-WR-CALDESC:Events for Spring Mix II | Fishing Charter Ocean City MD
REFRESH-INTERVAL;VALUE=DURATION:PT1H
X-Robots-Tag:noindex
X-PUBLISHED-TTL:PT1H
BEGIN:VTIMEZONE
TZID:America/New_York
BEGIN:DAYLIGHT
TZOFFSETFROM:-0500
TZOFFSETTO:-0400
TZNAME:EDT
DTSTART:20240310T070000
END:DAYLIGHT
BEGIN:STANDARD
TZOFFSETFROM:-0400
TZOFFSETTO:-0500
TZNAME:EST
DTSTART:20241103T060000
END:STANDARD
END:VTIMEZONE
BEGIN:VEVENT
DTSTART;VALUE=DATE:20240609
DTEND;VALUE=DATE:20240610
DTSTAMP:20260420T085442
CREATED:20240502T161449Z
LAST-MODIFIED:20240502T161510Z
UID:3686-1717891200-1717977599@springmixfishing.com
SUMMARY:Booked All Day
DESCRIPTION:
URL:https://springmixfishing.com/availability/booked-all-day-143/
CATEGORIES:Booked
END:VEVENT
BEGIN:VEVENT
DTSTART;VALUE=DATE:20240611
DTEND;VALUE=DATE:20240612
DTSTAMP:20260420T085442
CREATED:20240502T161548Z
LAST-MODIFIED:20240502T161555Z
UID:3687-1718064000-1718150399@springmixfishing.com
SUMMARY:Booked All Day
DESCRIPTION:
URL:https://springmixfishing.com/availability/booked-all-day-144/
CATEGORIES:Booked
END:VEVENT
BEGIN:VEVENT
DTSTART;VALUE=DATE:20240612
DTEND;VALUE=DATE:20240613
DTSTAMP:20260420T085442
CREATED:20240502T161621Z
LAST-MODIFIED:20240502T161626Z
UID:3688-1718150400-1718236799@springmixfishing.com
SUMMARY:Booked All Day
DESCRIPTION:
URL:https://springmixfishing.com/availability/booked-all-day-145/
END:VEVENT
BEGIN:VEVENT
DTSTART;VALUE=DATE:20240615
DTEND;VALUE=DATE:20240617
DTSTAMP:20260420T085442
CREATED:20240126T151644Z
LAST-MODIFIED:20240606T142307Z
UID:3673-1718409600-1718582399@springmixfishing.com
SUMMARY:Booked All Day
DESCRIPTION:
URL:https://springmixfishing.com/availability/booked-all-day-135/
CATEGORIES:Booked
END:VEVENT
BEGIN:VEVENT
DTSTART;VALUE=DATE:20240618
DTEND;VALUE=DATE:20240619
DTSTAMP:20260420T085442
CREATED:20240502T161659Z
LAST-MODIFIED:20240606T142408Z
UID:3689-1718668800-1718755199@springmixfishing.com
SUMMARY:Booked All Day
DESCRIPTION:
URL:https://springmixfishing.com/availability/booked-all-day-146/
CATEGORIES:Booked
END:VEVENT
BEGIN:VEVENT
DTSTART;VALUE=DATE:20240620
DTEND;VALUE=DATE:20240621
DTSTAMP:20260420T085442
CREATED:20240606T142458Z
LAST-MODIFIED:20240606T142503Z
UID:3765-1718841600-1718927999@springmixfishing.com
SUMMARY:Booked All Day
DESCRIPTION:
URL:https://springmixfishing.com/availability/booked-all-day-154/
CATEGORIES:Booked
END:VEVENT
BEGIN:VEVENT
DTSTART;VALUE=DATE:20240622
DTEND;VALUE=DATE:20240623
DTSTAMP:20260420T085442
CREATED:20240502T161731Z
LAST-MODIFIED:20240502T161736Z
UID:3690-1719014400-1719100799@springmixfishing.com
SUMMARY:Booked All Day
DESCRIPTION:
URL:https://springmixfishing.com/availability/booked-all-day-147/
CATEGORIES:Booked
END:VEVENT
BEGIN:VEVENT
DTSTART;VALUE=DATE:20240623
DTEND;VALUE=DATE:20240624
DTSTAMP:20260420T085442
CREATED:20240606T142534Z
LAST-MODIFIED:20240606T142540Z
UID:3766-1719100800-1719187199@springmixfishing.com
SUMMARY:Booked All Day
DESCRIPTION:
URL:https://springmixfishing.com/availability/booked-all-day-155/
END:VEVENT
BEGIN:VEVENT
DTSTART;VALUE=DATE:20240626
DTEND;VALUE=DATE:20240627
DTSTAMP:20260420T085442
CREATED:20240620T143958Z
LAST-MODIFIED:20240620T144005Z
UID:3772-1719360000-1719446399@springmixfishing.com
SUMMARY:Booked All Day
DESCRIPTION:
URL:https://springmixfishing.com/availability/booked-all-day-161/
CATEGORIES:Booked
END:VEVENT
BEGIN:VEVENT
DTSTART;VALUE=DATE:20240627
DTEND;VALUE=DATE:20240628
DTSTAMP:20260420T085442
CREATED:20240606T142658Z
LAST-MODIFIED:20240606T142703Z
UID:3768-1719446400-1719532799@springmixfishing.com
SUMMARY:Booked All Day
DESCRIPTION:
URL:https://springmixfishing.com/availability/booked-all-day-157/
END:VEVENT
BEGIN:VEVENT
DTSTART;VALUE=DATE:20240629
DTEND;VALUE=DATE:20240630
DTSTAMP:20260420T085442
CREATED:20240502T161800Z
LAST-MODIFIED:20240502T161804Z
UID:3691-1719619200-1719705599@springmixfishing.com
SUMMARY:Booked AllDay
DESCRIPTION:
URL:https://springmixfishing.com/availability/booked-allday/
CATEGORIES:Booked
END:VEVENT
BEGIN:VEVENT
DTSTART;VALUE=DATE:20240630
DTEND;VALUE=DATE:20240701
DTSTAMP:20260420T085442
CREATED:20240610T145612Z
LAST-MODIFIED:20240610T145618Z
UID:3771-1719705600-1719791999@springmixfishing.com
SUMMARY:Booked All Day
DESCRIPTION:
URL:https://springmixfishing.com/availability/booked-all-day-160/
END:VEVENT
END:VCALENDAR