BEGIN:VCALENDAR
VERSION:2.0
PRODID:-//Spring Mix II | Fishing Charter Ocean City MD - ECPv6.15.0//NONSGML v1.0//EN
CALSCALE:GREGORIAN
METHOD:PUBLISH
X-WR-CALNAME:Spring Mix II | Fishing Charter Ocean City MD
X-ORIGINAL-URL:https://springmixfishing.com
X-WR-CALDESC:Events for Spring Mix II | Fishing Charter Ocean City MD
REFRESH-INTERVAL;VALUE=DURATION:PT1H
X-Robots-Tag:noindex
X-PUBLISHED-TTL:PT1H
BEGIN:VTIMEZONE
TZID:America/New_York
BEGIN:DAYLIGHT
TZOFFSETFROM:-0500
TZOFFSETTO:-0400
TZNAME:EDT
DTSTART:20240310T070000
END:DAYLIGHT
BEGIN:STANDARD
TZOFFSETFROM:-0400
TZOFFSETTO:-0500
TZNAME:EST
DTSTART:20241103T060000
END:STANDARD
END:VTIMEZONE
BEGIN:VEVENT
DTSTART;VALUE=DATE:20240702
DTEND;VALUE=DATE:20240703
DTSTAMP:20260420T071552
CREATED:20240621T154644Z
LAST-MODIFIED:20240621T154654Z
UID:3777-1719878400-1719964799@springmixfishing.com
SUMMARY:Booked All Day
DESCRIPTION:
URL:https://springmixfishing.com/availability/booked-all-day-156/
END:VEVENT
BEGIN:VEVENT
DTSTART;VALUE=DATE:20240703
DTEND;VALUE=DATE:20240704
DTSTAMP:20260420T071552
CREATED:20240625T173018Z
LAST-MODIFIED:20240625T173023Z
UID:3779-1719964800-1720051199@springmixfishing.com
SUMMARY:Booked All Day
DESCRIPTION:
URL:https://springmixfishing.com/availability/booked-all-day-166/
CATEGORIES:Booked
END:VEVENT
BEGIN:VEVENT
DTSTART;VALUE=DATE:20240704
DTEND;VALUE=DATE:20240706
DTSTAMP:20260420T071552
CREATED:20240502T161836Z
LAST-MODIFIED:20240502T161842Z
UID:3692-1720051200-1720223999@springmixfishing.com
SUMMARY:Booked All Day
DESCRIPTION:
URL:https://springmixfishing.com/availability/booked-all-day-148/
CATEGORIES:Booked
END:VEVENT
BEGIN:VEVENT
DTSTART;VALUE=DATE:20240706
DTEND;VALUE=DATE:20240707
DTSTAMP:20260420T071552
CREATED:20240624T134059Z
LAST-MODIFIED:20240624T134105Z
UID:3778-1720224000-1720310399@springmixfishing.com
SUMMARY:Booked All Day
DESCRIPTION:
URL:https://springmixfishing.com/availability/booked-all-day-162/
END:VEVENT
BEGIN:VEVENT
DTSTART;VALUE=DATE:20240707
DTEND;VALUE=DATE:20240708
DTSTAMP:20260420T071552
CREATED:20240620T144102Z
LAST-MODIFIED:20240620T144110Z
UID:3774-1720310400-1720396799@springmixfishing.com
SUMMARY:Booked All Day
DESCRIPTION:
URL:https://springmixfishing.com/availability/booked-all-day-163/
END:VEVENT
BEGIN:VEVENT
DTSTART;VALUE=DATE:20240710
DTEND;VALUE=DATE:20240711
DTSTAMP:20260420T071552
CREATED:20240502T161913Z
LAST-MODIFIED:20240502T161918Z
UID:3693-1720569600-1720655999@springmixfishing.com
SUMMARY:Booked All Day
DESCRIPTION:
URL:https://springmixfishing.com/availability/booked-all-day-149/
CATEGORIES:Booked
END:VEVENT
BEGIN:VEVENT
DTSTART;VALUE=DATE:20240711
DTEND;VALUE=DATE:20240716
DTSTAMP:20260420T071552
CREATED:20240126T151728Z
LAST-MODIFIED:20240126T151734Z
UID:3674-1720656000-1721087999@springmixfishing.com
SUMMARY:Booked All Day
DESCRIPTION:
URL:https://springmixfishing.com/availability/booked-all-day-136/
CATEGORIES:Booked
END:VEVENT
BEGIN:VEVENT
DTSTART;VALUE=DATE:20240717
DTEND;VALUE=DATE:20240718
DTSTAMP:20260420T071552
CREATED:20240711T161952Z
LAST-MODIFIED:20240711T161959Z
UID:3781-1721174400-1721260799@springmixfishing.com
SUMMARY:Booked All Day
DESCRIPTION:
URL:https://springmixfishing.com/availability/booked-all-day-138/
END:VEVENT
BEGIN:VEVENT
DTSTART;VALUE=DATE:20240718
DTEND;VALUE=DATE:20240719
DTSTAMP:20260420T071552
CREATED:20240502T161945Z
LAST-MODIFIED:20240502T161951Z
UID:3694-1721260800-1721347199@springmixfishing.com
SUMMARY:Booked All Day
DESCRIPTION:
URL:https://springmixfishing.com/availability/booked-all-day-150/
CATEGORIES:Booked
END:VEVENT
BEGIN:VEVENT
DTSTART;VALUE=DATE:20240720
DTEND;VALUE=DATE:20240722
DTSTAMP:20260420T071552
CREATED:20240126T151812Z
LAST-MODIFIED:20240126T151819Z
UID:3675-1721433600-1721606399@springmixfishing.com
SUMMARY:Booked All Day
DESCRIPTION:
URL:https://springmixfishing.com/availability/booked-all-day-137/
CATEGORIES:Booked
END:VEVENT
BEGIN:VEVENT
DTSTART;VALUE=DATE:20240725
DTEND;VALUE=DATE:20240726
DTSTAMP:20260420T071552
CREATED:20240715T154831Z
LAST-MODIFIED:20240715T154836Z
UID:3788-1721865600-1721951999@springmixfishing.com
SUMMARY:Booked All Day
DESCRIPTION:
URL:https://springmixfishing.com/availability/booked-all-day-171/
CATEGORIES:Booked
END:VEVENT
BEGIN:VEVENT
DTSTART;VALUE=DATE:20240727
DTEND;VALUE=DATE:20240728
DTSTAMP:20260420T071552
CREATED:20240711T162230Z
LAST-MODIFIED:20240711T162236Z
UID:3782-1722038400-1722124799@springmixfishing.com
SUMMARY:Booked All Day
DESCRIPTION:
URL:https://springmixfishing.com/availability/booked-all-day-167/
CATEGORIES:Booked
END:VEVENT
BEGIN:VEVENT
DTSTART;VALUE=DATE:20240730
DTEND;VALUE=DATE:20240731
DTSTAMP:20260420T071552
CREATED:20240711T162306Z
LAST-MODIFIED:20240711T162312Z
UID:3783-1722297600-1722383999@springmixfishing.com
SUMMARY:Booked All Day
DESCRIPTION:
URL:https://springmixfishing.com/availability/booked-all-day-168/
CATEGORIES:Booked
END:VEVENT
BEGIN:VEVENT
DTSTART;VALUE=DATE:20240731
DTEND;VALUE=DATE:20240801
DTSTAMP:20260420T071552
CREATED:20240715T154918Z
LAST-MODIFIED:20240715T154924Z
UID:3789-1722384000-1722470399@springmixfishing.com
SUMMARY:Booked All Day
DESCRIPTION:
URL:https://springmixfishing.com/availability/booked-all-day-172/
END:VEVENT
END:VCALENDAR