BEGIN:VCALENDAR
VERSION:2.0
PRODID:-//Spring Mix II | Fishing Charter Ocean City MD - ECPv6.15.0//NONSGML v1.0//EN
CALSCALE:GREGORIAN
METHOD:PUBLISH
X-WR-CALNAME:Spring Mix II | Fishing Charter Ocean City MD
X-ORIGINAL-URL:https://springmixfishing.com
X-WR-CALDESC:Events for Spring Mix II | Fishing Charter Ocean City MD
REFRESH-INTERVAL;VALUE=DURATION:PT1H
X-Robots-Tag:noindex
X-PUBLISHED-TTL:PT1H
BEGIN:VTIMEZONE
TZID:America/New_York
BEGIN:DAYLIGHT
TZOFFSETFROM:-0500
TZOFFSETTO:-0400
TZNAME:EDT
DTSTART:20240310T070000
END:DAYLIGHT
BEGIN:STANDARD
TZOFFSETFROM:-0400
TZOFFSETTO:-0500
TZNAME:EST
DTSTART:20241103T060000
END:STANDARD
END:VTIMEZONE
BEGIN:VEVENT
DTSTART;VALUE=DATE:20240801
DTEND;VALUE=DATE:20240803
DTSTAMP:20260420T053205
CREATED:20240711T162741Z
LAST-MODIFIED:20240711T162747Z
UID:3786-1722470400-1722643199@springmixfishing.com
SUMMARY:Booked All Day
DESCRIPTION:
URL:https://springmixfishing.com/availability/booked-all-day-140/
CATEGORIES:Booked
END:VEVENT
BEGIN:VEVENT
DTSTART;VALUE=DATE:20240805
DTEND;VALUE=DATE:20240806
DTSTAMP:20260420T053205
CREATED:20240715T155200Z
LAST-MODIFIED:20240715T155206Z
UID:3791-1722816000-1722902399@springmixfishing.com
SUMMARY:Booked All Day
DESCRIPTION:
URL:https://springmixfishing.com/availability/booked-all-day-174/
CATEGORIES:Booked
END:VEVENT
BEGIN:VEVENT
DTSTART;VALUE=DATE:20240808
DTEND;VALUE=DATE:20240809
DTSTAMP:20260420T053205
CREATED:20240717T163528Z
LAST-MODIFIED:20240717T163533Z
UID:3796-1723075200-1723161599@springmixfishing.com
SUMMARY:Booked All Day
DESCRIPTION:
URL:https://springmixfishing.com/availability/booked-all-day-141/
CATEGORIES:Booked
END:VEVENT
BEGIN:VEVENT
DTSTART;VALUE=DATE:20240810
DTEND;VALUE=DATE:20240811
DTSTAMP:20260420T053205
CREATED:20240715T155443Z
LAST-MODIFIED:20240715T155451Z
UID:3793-1723248000-1723334399@springmixfishing.com
SUMMARY:Booked All Day
DESCRIPTION:
URL:https://springmixfishing.com/availability/booked-all-day-176/
CATEGORIES:Booked
END:VEVENT
BEGIN:VEVENT
DTSTART;VALUE=DATE:20240811
DTEND;VALUE=DATE:20240812
DTSTAMP:20260420T053205
CREATED:20240717T163604Z
LAST-MODIFIED:20240717T163610Z
UID:3797-1723334400-1723420799@springmixfishing.com
SUMMARY:Booked All Day
DESCRIPTION:
URL:https://springmixfishing.com/availability/booked-all-day-151/
CATEGORIES:Booked
END:VEVENT
BEGIN:VEVENT
DTSTART;VALUE=DATE:20240812
DTEND;VALUE=DATE:20240813
DTSTAMP:20260420T053205
CREATED:20240715T155312Z
LAST-MODIFIED:20240715T155317Z
UID:3792-1723420800-1723507199@springmixfishing.com
SUMMARY:Booked All Day
DESCRIPTION:
URL:https://springmixfishing.com/availability/booked-all-day-175/
CATEGORIES:Booked
END:VEVENT
BEGIN:VEVENT
DTSTART;VALUE=DATE:20240813
DTEND;VALUE=DATE:20240814
DTSTAMP:20260420T053205
CREATED:20240502T162056Z
LAST-MODIFIED:20240502T162103Z
UID:3696-1723507200-1723593599@springmixfishing.com
SUMMARY:Booked All Day
DESCRIPTION:
URL:https://springmixfishing.com/availability/booked-all-day-152/
END:VEVENT
BEGIN:VEVENT
DTSTART;VALUE=DATE:20240814
DTEND;VALUE=DATE:20240815
DTSTAMP:20260420T053205
CREATED:20240808T142501Z
LAST-MODIFIED:20240808T142509Z
UID:3828-1723593600-1723679999@springmixfishing.com
SUMMARY:Booked All Day
DESCRIPTION:
URL:https://springmixfishing.com/availability/booked-all-day-164/
CATEGORIES:Booked
END:VEVENT
BEGIN:VEVENT
DTSTART;VALUE=DATE:20240815
DTEND;VALUE=DATE:20240826
DTSTAMP:20260420T053205
CREATED:20240126T151936Z
LAST-MODIFIED:20240126T151941Z
UID:3677-1723680000-1724630399@springmixfishing.com
SUMMARY:Booked All Day
DESCRIPTION:
URL:https://springmixfishing.com/availability/booked-all-day-139/
CATEGORIES:Booked
END:VEVENT
BEGIN:VEVENT
DTSTART;VALUE=DATE:20240826
DTEND;VALUE=DATE:20240827
DTSTAMP:20260420T053205
CREATED:20240606T142735Z
LAST-MODIFIED:20240606T142740Z
UID:3769-1724630400-1724716799@springmixfishing.com
SUMMARY:Booked All Day
DESCRIPTION:
URL:https://springmixfishing.com/availability/booked-all-day-158/
END:VEVENT
BEGIN:VEVENT
DTSTART;VALUE=DATE:20240827
DTEND;VALUE=DATE:20240829
DTSTAMP:20260420T053205
CREATED:20240808T142542Z
LAST-MODIFIED:20240808T142548Z
UID:3829-1724716800-1724889599@springmixfishing.com
SUMMARY:Booked All Day
DESCRIPTION:
URL:https://springmixfishing.com/availability/booked-all-day-165/
CATEGORIES:Booked
END:VEVENT
BEGIN:VEVENT
DTSTART;VALUE=DATE:20240829
DTEND;VALUE=DATE:20240830
DTSTAMP:20260420T053205
CREATED:20240823T200736Z
LAST-MODIFIED:20240823T200743Z
UID:3838-1724889600-1724975999@springmixfishing.com
SUMMARY:Booked All Day
DESCRIPTION:
URL:https://springmixfishing.com/availability/booked-all-day-184/
CATEGORIES:Booked
END:VEVENT
BEGIN:VEVENT
DTSTART;VALUE=DATE:20240830
DTEND;VALUE=DATE:20240901
DTSTAMP:20260420T053205
CREATED:20240808T142625Z
LAST-MODIFIED:20240808T142631Z
UID:3830-1724976000-1725148799@springmixfishing.com
SUMMARY:Booked All Day
DESCRIPTION:
URL:https://springmixfishing.com/availability/booked-all-day-173/
CATEGORIES:Booked
END:VEVENT
END:VCALENDAR